BEGIN:VCALENDAR
VERSION:2.0
PRODID:-//Guru Gobind Singh Study Circle - ECPv6.5.0//NONSGML v1.0//EN
CALSCALE:GREGORIAN
METHOD:PUBLISH
X-WR-CALNAME:Guru Gobind Singh Study Circle
X-ORIGINAL-URL:https://ggssc.net
X-WR-CALDESC:Events for Guru Gobind Singh Study Circle
REFRESH-INTERVAL;VALUE=DURATION:PT1H
X-Robots-Tag:noindex
X-PUBLISHED-TTL:PT1H
BEGIN:VTIMEZONE
TZID:Asia/Kolkata
BEGIN:STANDARD
TZOFFSETFROM:+0530
TZOFFSETTO:+0530
TZNAME:IST
DTSTART:20240101T000000
END:STANDARD
TZID:Asia/Karachi
BEGIN:STANDARD
TZOFFSETFROM:+0500
TZOFFSETTO:+0500
TZNAME:PKT
DTSTART:20240101T000000
END:STANDARD
TZID:America/Halifax
BEGIN:DAYLIGHT
TZOFFSETFROM:-0400
TZOFFSETTO:-0300
TZNAME:ADT
DTSTART:20240310T060000
END:DAYLIGHT
BEGIN:STANDARD
TZOFFSETFROM:-0300
TZOFFSETTO:-0400
TZNAME:AST
DTSTART:20241103T050000
END:STANDARD
TZID:Asia/Dubai
BEGIN:STANDARD
TZOFFSETFROM:+0400
TZOFFSETTO:+0400
TZNAME:+04
DTSTART:20240101T000000
END:STANDARD
END:VTIMEZONE
BEGIN:VEVENT
DTSTART;TZID=Asia/Kolkata:20260318T100000
DTEND;TZID=Asia/Kolkata:20260318T170000
DTSTAMP:20260419T142841
CREATED:20260316T061634Z
LAST-MODIFIED:20260316T062312Z
UID:6152-1773828000-1773853200@ggssc.net
SUMMARY:Gurmukhi Calligraphy (Akharkari) & Dastar Competition
DESCRIPTION:  \nAn interactive event celebrating Sikh heritage through Gurmukhi calligraphy (Akharkari) and Dastar tying skills. Students are invited to participate and showcase their creativity\, cultural pride\, and traditional knowledge. \nContact84375-7557595922-00863394643-56417 \nRoom R-9 & Giani Ditt Singh Auditorium Baba Banda Singh Bahadur Engineering College\, Fatehgarh Sahib click here
URL:https://ggssc.net/event/gurmukhi-calligraphy-akharkari-dastar-competition/
LOCATION:Giani Ditt Singh Auditorium
END:VEVENT
BEGIN:VEVENT
DTSTART;TZID=Asia/Karachi:20241201T090000
DTEND;TZID=Asia/Karachi:20241231T170000
DTSTAMP:20260419T142841
CREATED:20241007T054718Z
LAST-MODIFIED:20241007T055009Z
UID:5566-1733043600-1735664400@ggssc.net
SUMMARY:Essay Writing Competition 2025
DESCRIPTION:[vc_row][vc_column width=”1/4″][vc_single_image image=”5567″ onclick=”link_image”][/vc_column][vc_column width=”1/4″][/vc_column][vc_column width=”1/4″][/vc_column][vc_column width=”1/4″][/vc_column][/vc_row][vc_row][vc_column width=”1/4″][vc_column_text]For More Details Click Here[/vc_column_text][/vc_column][vc_column width=”1/4″][/vc_column][vc_column width=”1/4″][/vc_column][vc_column width=”1/4″][/vc_column][/vc_row]
URL:https://ggssc.net/event/essay-writing-competition-2025/
CATEGORIES:Category Event
ORGANIZER;CN="Guru Gobind Singh Study Circle":MAILTO:info@ggssc.net
END:VEVENT
BEGIN:VEVENT
DTSTART;TZID=Asia/Karachi:20241123T090000
DTEND;TZID=Asia/Karachi:20241224T130000
DTSTAMP:20260419T142841
CREATED:20241122T062109Z
LAST-MODIFIED:20241122T062109Z
UID:5748-1732352400-1735045200@ggssc.net
SUMMARY:52ਵਾਂ ਸਾਲਾਨਾ ਕੇਂਦਰੀ ਸਮਾਗਮ
DESCRIPTION:[vc_row][vc_column width=”1/4″][vc_single_image image=”5749″ onclick=”link_image”][/vc_column][vc_column width=”1/4″][/vc_column][vc_column width=”1/4″][/vc_column][vc_column width=”1/4″][/vc_column][/vc_row][vc_row][vc_column width=”1/4″][/vc_column][vc_column width=”1/4″][/vc_column][vc_column width=”1/4″][/vc_column][vc_column width=”1/4″][/vc_column][/vc_row]
URL:https://ggssc.net/event/52%e0%a8%b5%e0%a8%be%e0%a8%82-%e0%a8%b8%e0%a8%be%e0%a8%b2%e0%a8%be%e0%a8%a8%e0%a8%be-%e0%a8%95%e0%a9%87%e0%a8%82%e0%a8%a6%e0%a8%b0%e0%a9%80-%e0%a8%b8%e0%a8%ae%e0%a8%be%e0%a8%97%e0%a8%ae/
LOCATION:Guru Gobind Singh Study Circle\, Complex Model town Extension\, Ludhiana\, punjab\, 141001\, India
CATEGORIES:Category Event
ORGANIZER;CN="Guru Gobind Singh Study Circle":MAILTO:info@ggssc.net
END:VEVENT
BEGIN:VEVENT
DTSTART;TZID=Asia/Karachi:20241122T090000
DTEND;TZID=Asia/Karachi:20241222T180000
DTSTAMP:20260419T142841
CREATED:20241122T061746Z
LAST-MODIFIED:20241122T061746Z
UID:5745-1732266000-1734890400@ggssc.net
SUMMARY:ਕੇਂਦਰੀ ਜਥੇਬੰਦਕ ਵਿਚਾਰ-ਵਿਕਾਸ ਕਾਰਜਸ਼ਾਲਾ
DESCRIPTION:[vc_row][vc_column width=”1/4″][vc_single_image image=”5746″ onclick=”link_image”][/vc_column][vc_column width=”1/4″][/vc_column][vc_column width=”1/4″][/vc_column][vc_column width=”1/4″][/vc_column][/vc_row][vc_row][vc_column width=”1/4″][/vc_column][vc_column width=”1/4″][/vc_column][vc_column width=”1/4″][/vc_column][vc_column width=”1/4″][/vc_column][/vc_row]
URL:https://ggssc.net/event/%e0%a8%95%e0%a9%87%e0%a8%82%e0%a8%a6%e0%a8%b0%e0%a9%80-%e0%a8%9c%e0%a8%a5%e0%a9%87%e0%a8%ac%e0%a9%b0%e0%a8%a6%e0%a8%95-%e0%a8%b5%e0%a8%bf%e0%a8%9a%e0%a8%be%e0%a8%b0-%e0%a8%b5%e0%a8%bf%e0%a8%95/
LOCATION:Guru Gobind Singh Study Circle\, Complex Model town Extension\, Ludhiana\, punjab\, 141001\, India
CATEGORIES:Category Event
ORGANIZER;CN="Guru Gobind Singh Study Circle":MAILTO:info@ggssc.net
END:VEVENT
BEGIN:VEVENT
DTSTART;TZID=Asia/Karachi:20241019T100000
DTEND;TZID=Asia/Karachi:20241019T140000
DTSTAMP:20260419T142841
CREATED:20241018T064618Z
LAST-MODIFIED:20241018T064618Z
UID:5699-1729332000-1729346400@ggssc.net
SUMMARY:Vidyak Seminar
DESCRIPTION:[vc_row][vc_column width=”1/4″][vc_single_image image=”5700″ onclick=”link_image”][/vc_column][vc_column width=”1/4″][/vc_column][vc_column width=”1/4″][/vc_column][vc_column width=”1/4″][/vc_column][/vc_row][vc_row][vc_column width=”1/4″][vc_column_text]For More Details Click Here[/vc_column_text][/vc_column][vc_column width=”1/4″][/vc_column][vc_column width=”1/4″][/vc_column][vc_column width=”1/4″][/vc_column][/vc_row]
URL:https://ggssc.net/event/vidyak-seminar/
LOCATION:baba banda singh bahadar engg college\, fatehgarh sahib\, punjab\, India
CATEGORIES:Category Event
END:VEVENT
BEGIN:VEVENT
DTSTART;TZID=America/Halifax:20241019T090000
DTEND;TZID=America/Halifax:20241019T170000
DTSTAMP:20260419T142841
CREATED:20240921T083933Z
LAST-MODIFIED:20240921T083933Z
UID:5489-1729328400-1729357200@ggssc.net
SUMMARY:Dastar Pride
DESCRIPTION:[vc_row][vc_column width=”1/4″][vc_single_image image=”5490″ onclick=”link_image”][/vc_column][vc_column width=”1/4″][/vc_column][vc_column width=”1/4″][/vc_column][vc_column width=”1/4″][/vc_column][/vc_row]
URL:https://ggssc.net/event/dastar-pride/
LOCATION:Royal Albert’s Palace\,\, 1050 King Georges Post Rd\, Fords\, NJ\, NJ\, 08863\, United States
CATEGORIES:Category Event
ORGANIZER;CN="Guru Gobind Singh Study Circle USA":MAILTO:info@ggssc.net
END:VEVENT
BEGIN:VEVENT
DTSTART;TZID=Asia/Karachi:20240922T180000
DTEND;TZID=Asia/Karachi:20240922T210000
DTSTAMP:20260419T142841
CREATED:20240919T132643Z
LAST-MODIFIED:20241018T064758Z
UID:5484-1727028000-1727038800@ggssc.net
SUMMARY:Atam Prabodh Smagam
DESCRIPTION:[vc_row][vc_column width=”1/4″][vc_single_image image=”5485″ onclick=”link_image”][/vc_column][vc_column width=”1/4″][/vc_column][vc_column width=”1/4″][/vc_column][vc_column width=”1/4″][/vc_column][/vc_row]
URL:https://ggssc.net/event/atam-prabodh-smagam/
LOCATION:Gurudwara Dera Moyea di Mandi\, Model Town Rd\, Model Town\,\, Sri Anandpur Sahib\, Punjab\, 140117\, India
CATEGORIES:Category Event
ORGANIZER;CN="Guru Gobind Singh Study Circle Roopnagar- SBS  Nagar Zone":MAILTO:info@ggssc.net
END:VEVENT
BEGIN:VEVENT
DTSTART;TZID=Asia/Karachi:20240830T173000
DTEND;TZID=Asia/Karachi:20240901T193000
DTSTAMP:20260419T142841
CREATED:20240508T114054Z
LAST-MODIFIED:20240511T084815Z
UID:4828-1725039000-1725219000@ggssc.net
SUMMARY:Gurmat Crash Course
DESCRIPTION:[vc_row][vc_column width=”1/4″][vc_single_image image=”4811″ onclick=”link_image”][/vc_column][vc_column width=”1/4″][/vc_column][vc_column width=”1/4″][/vc_column][vc_column width=”1/4″][/vc_column][/vc_row]
URL:https://ggssc.net/event/gurmat-crash-course-4/
LOCATION:Khalsa Darbar\, Ontario Khalsa Darbar\, Ontario\, Canada
CATEGORIES:Category Event
ORGANIZER;CN="Guru Gobind Singh Study Circle Canada":MAILTO:Ggsscphoto@gmail.com
END:VEVENT
BEGIN:VEVENT
DTSTART;TZID=Asia/Kolkata:20240822T100000
DTEND;TZID=Asia/Kolkata:20240822T110000
DTSTAMP:20260419T142841
CREATED:20240820T084620Z
LAST-MODIFIED:20240820T084620Z
UID:5298-1724320800-1724324400@ggssc.net
SUMMARY:Moral Education Test
DESCRIPTION:[vc_row][vc_column width=”1/4″][vc_single_image image=”5299″][/vc_column][vc_column width=”1/4″][/vc_column][vc_column width=”1/4″][/vc_column][vc_column width=”1/4″][/vc_column][/vc_row]
URL:https://ggssc.net/event/moral-education-test/
CATEGORIES:Category Event
ORGANIZER;CN="Guru Gobind Singh Study Circle":MAILTO:info@ggssc.net
END:VEVENT
BEGIN:VEVENT
DTSTART;VALUE=DATE:20240817
DTEND;VALUE=DATE:20240818
DTSTAMP:20260419T142841
CREATED:20240820T062001Z
LAST-MODIFIED:20240820T062118Z
UID:5293-1723852800-1723939199@ggssc.net
SUMMARY:Scholarships Distribution Programme
DESCRIPTION:[vc_row][vc_column width=”1/4″][vc_single_image image=”5295″][/vc_column][vc_column width=”1/4″][/vc_column][vc_column width=”1/4″][/vc_column][vc_column width=”1/4″][/vc_column][/vc_row]
URL:https://ggssc.net/event/scholarships-distribution-programme/
LOCATION:Dashmesh Dental College\, Dashmesh Dental College\, Faridkot\, punjab\, 151203\, India
CATEGORIES:Category Event
ORGANIZER;CN="Guru Gobind Singh Study Circle":MAILTO:info@ggssc.net
END:VEVENT
BEGIN:VEVENT
DTSTART;TZID=Asia/Karachi:20240816T173000
DTEND;TZID=Asia/Karachi:20240818T193000
DTSTAMP:20260419T142841
CREATED:20240508T113243Z
LAST-MODIFIED:20240511T084808Z
UID:4820-1723829400-1724009400@ggssc.net
SUMMARY:Gurmat Crash Course
DESCRIPTION:[vc_row][vc_column width=”1/4″][vc_single_image image=”4811″ onclick=”link_image”][/vc_column][vc_column width=”1/4″][/vc_column][vc_column width=”1/4″][/vc_column][vc_column width=”1/4″][/vc_column][/vc_row]
URL:https://ggssc.net/event/gurmat-crash-course-3/
LOCATION:New Westminster\, New Westminster\, British Columbia\, Canada
CATEGORIES:Category Event
ORGANIZER;CN="Guru Gobind Singh Study Circle Canada":MAILTO:Ggsscphoto@gmail.com
END:VEVENT
BEGIN:VEVENT
DTSTART;TZID=Asia/Karachi:20240729T173000
DTEND;TZID=Asia/Karachi:20240810T193000
DTSTAMP:20260419T142841
CREATED:20240827T055223Z
LAST-MODIFIED:20240827T055911Z
UID:5331-1722274200-1723318200@ggssc.net
SUMMARY:Khalsa Gurmat camp - Khoj
DESCRIPTION:[vc_row][vc_column width=”1/2″][vc_gallery type=”image_grid” images=”5334\,5333\,5332″][/vc_column][vc_column width=”1/2″][/vc_column][/vc_row][vc_row][vc_column][vc_column_text]An Eleven Days’s Khalsa Gurmat camp – Khoj was organised by Guru Nanak DARBAR of Long Island with the active support of Khoj Team under Tandeep kaur and Guru Gobind Singh Study Circle USA Team. Sardar Sarabjit Singh National President GGSSC USA\, told that this 11days camp was held from 29th July to 10th August 2024 at and in association with Gurdwara Guru Nanak Darbar Hicksville New York USA. More than 125 enthusiastic students belonging to 6-18 years age group took part in this camp. During the camp held in the summer holidays\, the students took keen interest and seriously learned about the “Travels of Guru Nanak Dev ji” and the doctrine of “Chardikala”.\nThe Management of Gurdwara Guru Nanak Darbar\, Sangat and parents of students extended all support and cooperation. The camp was a grand success – Sarbat Da Bhalla[/vc_column_text][/vc_column][/vc_row]
URL:https://ggssc.net/event/khalsa-gurmat-camp-khoj/
LOCATION:Guru Nanak Darbar Of Long Island (Sikh Gurudwara)\, 11 S Broadway\, Hicksville\, NY\, NY\, 11801\, United States
CATEGORIES:Category Event
ORGANIZER;CN="Guru Gobind Singh Study Circle USA":MAILTO:info@ggssc.net
END:VEVENT
BEGIN:VEVENT
DTSTART;TZID=Asia/Karachi:20240719T173000
DTEND;TZID=Asia/Karachi:20240721T193000
DTSTAMP:20260419T142841
CREATED:20240508T111708Z
LAST-MODIFIED:20240511T084747Z
UID:4815-1721410200-1721590200@ggssc.net
SUMMARY:Gurmat Crash Course
DESCRIPTION:[vc_row][vc_column width=”1/4″][vc_single_image image=”4811″ onclick=”link_image”][/vc_column][vc_column width=”1/4″][/vc_column][vc_column width=”1/4″][/vc_column][vc_column width=”1/4″][/vc_column][/vc_row]
URL:https://ggssc.net/event/gurmat-crash-course-2/
LOCATION:oakville\, oakville\, ontario\, Canada
CATEGORIES:Category Event
ORGANIZER;CN="Guru Gobind Singh Study Circle Canada":MAILTO:Ggsscphoto@gmail.com
END:VEVENT
BEGIN:VEVENT
DTSTART;TZID=Asia/Karachi:20240628T173000
DTEND;TZID=Asia/Karachi:20240630T193000
DTSTAMP:20260419T142841
CREATED:20240508T111147Z
LAST-MODIFIED:20240511T084737Z
UID:4810-1719595800-1719775800@ggssc.net
SUMMARY:Gurmat Crash Course
DESCRIPTION:[vc_row][vc_column width=”1/4″][vc_single_image image=”4811″ onclick=”link_image”][/vc_column][vc_column width=”1/4″][/vc_column][vc_column width=”1/4″][/vc_column][vc_column width=”1/4″][/vc_column][/vc_row]
URL:https://ggssc.net/event/gurmat-crash-course/
LOCATION:guelph\, guelph\, ontario\, Canada
CATEGORIES:Category Event
ORGANIZER;CN="Guru Gobind Singh Study Circle Canada":MAILTO:Ggsscphoto@gmail.com
END:VEVENT
BEGIN:VEVENT
DTSTART;TZID=Asia/Kolkata:20240616T100000
DTEND;TZID=Asia/Kolkata:20240616T120000
DTSTAMP:20260419T142841
CREATED:20240615T070455Z
LAST-MODIFIED:20240615T070455Z
UID:4960-1718532000-1718539200@ggssc.net
SUMMARY:Amrit Sanchar
DESCRIPTION:[vc_row][vc_column width=”1/4″][vc_single_image image=”4961″ onclick=”link_image”][/vc_column][vc_column width=”1/4″][/vc_column][vc_column width=”1/4″][/vc_column][vc_column width=”1/4″][/vc_column][/vc_row]
URL:https://ggssc.net/event/amrit-sanchar/
LOCATION:Gurudwara Sri Kalgidhar Singh Sabha\, Block No 11\, Gobind Nagar\, Kanpur\, Uttar Pradesh\, India
CATEGORIES:Category Event
ORGANIZER;CN="Guru Gobind Singh Study Circle Kanpur":MAILTO:info@ggssc.net
END:VEVENT
BEGIN:VEVENT
DTSTART;TZID=Asia/Karachi:20240607T173000
DTEND;TZID=Asia/Karachi:20240609T193000
DTSTAMP:20260419T142841
CREATED:20240420T110314Z
LAST-MODIFIED:20240511T084728Z
UID:4725-1717781400-1717961400@ggssc.net
SUMMARY:Gurmat Crash Course - Selfless Sacrifices
DESCRIPTION:[vc_row][vc_column width=”1/4″][vc_single_image image=”4726″ onclick=”link_image”][/vc_column][vc_column width=”1/4″][/vc_column][vc_column width=”1/4″][/vc_column][vc_column width=”1/4″][/vc_column][/vc_row]
URL:https://ggssc.net/event/gurmat-crash-course-selfless-sacrifices-part-2/
LOCATION:Sikh Society Of Central Florida\, 2527 W State Road 426\, Oviedo\, FL\, United States
CATEGORIES:Category Event
ORGANIZER;CN="Guru Gobind Singh Study Circle Canada":MAILTO:Ggsscphoto@gmail.com
END:VEVENT
BEGIN:VEVENT
DTSTART;TZID=Asia/Kolkata:20240529T170000
DTEND;TZID=Asia/Kolkata:20240531T190000
DTSTAMP:20260419T142841
CREATED:20240514T070048Z
LAST-MODIFIED:20240514T070048Z
UID:4848-1717002000-1717182000@ggssc.net
SUMMARY:Guntas 2024
DESCRIPTION:[vc_row][vc_column width=”1/4″][vc_single_image image=”4849″][/vc_column][vc_column width=”1/4″][/vc_column][vc_column width=”1/4″][/vc_column][vc_column width=”1/4″][/vc_column][/vc_row]
URL:https://ggssc.net/event/guntas-2024/
LOCATION:Gurudwara Kapal Mochan Sahib\, MDR 5\, Yamuna Nagar\, Haryana\, India
CATEGORIES:Category Event
ORGANIZER;CN="Guru Gobind Singh Study Circle":MAILTO:info@ggssc.net
END:VEVENT
BEGIN:VEVENT
DTSTART;TZID=America/Halifax:20240511T100000
DTEND;TZID=America/Halifax:20240511T140000
DTSTAMP:20260419T142841
CREATED:20240504T131953Z
LAST-MODIFIED:20240511T084716Z
UID:4796-1715421600-1715436000@ggssc.net
SUMMARY:Sikh Book Stall
DESCRIPTION:[vc_row][vc_column width=”1/4″][vc_single_image image=”4797″ onclick=”link_image”][/vc_column][vc_column width=”1/4″][/vc_column][vc_column width=”1/4″][/vc_column][vc_column width=”1/4″][/vc_column][/vc_row]
URL:https://ggssc.net/event/sikh-book-stall/
LOCATION:Alliston Memorial Arena\, Address: 49 Nelson St W\,\, Alliston\, ON L9R 1G9\, Canada
CATEGORIES:Category Event
ORGANIZER;CN="Guru Gobind Singh Study Circle Canada":MAILTO:Ggsscphoto@gmail.com
END:VEVENT
BEGIN:VEVENT
DTSTART;TZID=Asia/Kolkata:20240427T123000
DTEND;TZID=Asia/Kolkata:20240427T133000
DTSTAMP:20260419T142841
CREATED:20240426T060506Z
LAST-MODIFIED:20240503T053852Z
UID:4759-1714221000-1714224600@ggssc.net
SUMMARY:Career Guidance
DESCRIPTION:[vc_row][vc_column width=”1/4″][vc_single_image image=”4760″ onclick=”link_image”][/vc_column][vc_column width=”1/4″][/vc_column][vc_column width=”1/4″][/vc_column][vc_column width=”1/4″][/vc_column][/vc_row]
URL:https://ggssc.net/event/book-exchange-fair/
CATEGORIES:Category Event
ORGANIZER;CN="Guru Gobind Singh Study Circle":MAILTO:info@ggssc.net
END:VEVENT
BEGIN:VEVENT
DTSTART;TZID=Asia/Dubai:20240420T143000
DTEND;TZID=Asia/Dubai:20240420T160000
DTSTAMP:20260419T142841
CREATED:20240415T062117Z
LAST-MODIFIED:20240504T132703Z
UID:4623-1713623400-1713628800@ggssc.net
SUMMARY:ਵਿਚਾਰ ਗੋਸ਼ਟੀ
DESCRIPTION:[vc_row][vc_column width=”1/4″][vc_single_image image=”4629″ onclick=”link_image”][/vc_column][vc_column width=”1/4″][vc_single_image image=”4802″ onclick=”link_image”][/vc_column][vc_column width=”1/4″][/vc_column][vc_column width=”1/4″][/vc_column][/vc_row][vc_row][vc_column][/vc_column][/vc_row]
URL:https://ggssc.net/event/vichar-goshti/
LOCATION:Gurudwara Guru Nanak Nishkam Sewa Centre\, 12356 Bramalea \, Caledon East\, Ontario\, Canada
CATEGORIES:Category Event
ORGANIZER;CN="Guru Gobind Singh Study Circle Canada":MAILTO:Ggsscphoto@gmail.com
END:VEVENT
BEGIN:VEVENT
DTSTART;TZID=Asia/Kolkata:20240402T140000
DTEND;TZID=Asia/Kolkata:20240410T180000
DTSTAMP:20260419T142841
CREATED:20240402T083540Z
LAST-MODIFIED:20240405T082116Z
UID:4585-1712066400-1712772000@ggssc.net
SUMMARY:Book Exchange Fair
DESCRIPTION:[vc_row][vc_column width=”1/4″][vc_single_image image=”4586″ onclick=”link_image”][/vc_column][vc_column width=”1/4″][/vc_column][vc_column width=”1/4″][/vc_column][vc_column width=”1/4″][/vc_column][/vc_row]
URL:https://ggssc.net/event/book-exchange-f/
LOCATION:#1\, Purani sooraj nagari\, Abohar\, punjab\, India
CATEGORIES:Category Event
ORGANIZER;CN="Guru Gobind Singh Study Circle Abohar":MAILTO:info@ggssc.net
END:VEVENT
BEGIN:VEVENT
DTSTART;VALUE=DATE:20240402
DTEND;VALUE=DATE:20240403
DTSTAMP:20260419T142841
CREATED:20240409T065957Z
LAST-MODIFIED:20240409T070523Z
UID:4605-1712016000-1712102399@ggssc.net
SUMMARY:Turban Tying Competition
DESCRIPTION:[vc_row][vc_column][vc_gallery type=”image_grid” images=”4620\,4619\,4618\,4617\,4616\,4615″][/vc_column][/vc_row]
URL:https://ggssc.net/event/turban-tying-competition/
LOCATION:Dastar Pride\, Rajpura\, punjab\, India
CATEGORIES:Category Event
ORGANIZER;CN="Guru Gobind Singh Study Circle USA":MAILTO:info@ggssc.net
END:VEVENT
BEGIN:VEVENT
DTSTART;TZID=Asia/Kolkata:20240329T080000
DTEND;TZID=Asia/Kolkata:20240329T170000
DTSTAMP:20260419T142841
CREATED:20240326T071619Z
LAST-MODIFIED:20240405T081856Z
UID:4562-1711699200-1711731600@ggssc.net
SUMMARY:Dastar Chetna & Nasha Mukti March
DESCRIPTION:[vc_row][vc_column width=”1/4″][vc_single_image image=”4563″ onclick=”link_image”][/vc_column][vc_column width=”1/4″][/vc_column][vc_column width=”1/4″][/vc_column][vc_column width=”1/4″][/vc_column][/vc_row]
URL:https://ggssc.net/event/dastar-chetna-ate-nasha-mukti-march/
LOCATION:Gurudwara Sahib\, Village Kalia\, punjab\, India
CATEGORIES:Category Event
ORGANIZER;CN="Guru Gobind Singh Study Circle Amarkot":MAILTO:info@ggssc.net
END:VEVENT
BEGIN:VEVENT
DTSTART;TZID=Asia/Kolkata:20240325T090000
DTEND;TZID=Asia/Kolkata:20240325T140000
DTSTAMP:20260419T142841
CREATED:20240312T110127Z
LAST-MODIFIED:20240312T110518Z
UID:4495-1711357200-1711375200@ggssc.net
SUMMARY:Hola Mohalla - Puda Ground
DESCRIPTION:[vc_row][vc_column width=”1/4″][vc_single_image image=”4472″][/vc_column][vc_column width=”1/4″][/vc_column][vc_column width=”1/4″][/vc_column][vc_column width=”1/4″][/vc_column][/vc_row]
URL:https://ggssc.net/event/hola-mohalla-puda-ground/
LOCATION:Sector 32\, Near Vardhman\, Puda Ground\, Chd Road\, Ludhiana\, Punjab\, 141009\, India
CATEGORIES:Category Event
ORGANIZER;CN="Guru Gobind Singh Study Circle":MAILTO:info@ggssc.net
END:VEVENT
BEGIN:VEVENT
DTSTART;TZID=Asia/Kolkata:20240325T090000
DTEND;TZID=Asia/Kolkata:20240325T140000
DTSTAMP:20260419T142841
CREATED:20240312T105837Z
LAST-MODIFIED:20240312T110635Z
UID:4490-1711357200-1711375200@ggssc.net
SUMMARY:Hola Mohalla - Gov Sen Sec School
DESCRIPTION:[vc_row][vc_column width=”1/4″][vc_single_image image=”4472″][/vc_column][vc_column width=”1/4″][/vc_column][vc_column width=”1/4″][/vc_column][vc_column width=”1/4″][/vc_column][/vc_row]
URL:https://ggssc.net/event/hola-mohalla-gov-sen-sec-school/
LOCATION:Shaheed-e-azam Sukhdev Thapar\, Gov Sen Sec School (Girls)\, Bharat Nagar\, Ludhiana\, Punjab\, 141001\, India
CATEGORIES:Category Event
ORGANIZER;CN="Guru Gobind Singh Study Circle":MAILTO:info@ggssc.net
END:VEVENT
BEGIN:VEVENT
DTSTART;TZID=Asia/Kolkata:20240325T090000
DTEND;TZID=Asia/Kolkata:20240325T140000
DTSTAMP:20260419T142841
CREATED:20240312T105537Z
LAST-MODIFIED:20240312T110547Z
UID:4486-1711357200-1711375200@ggssc.net
SUMMARY:Hola Mohalla - Gurudwara Singh Sbha
DESCRIPTION:[vc_row][vc_column width=”1/4″][vc_single_image image=”4472″][/vc_column][vc_column width=”1/4″][/vc_column][vc_column width=”1/4″][/vc_column][vc_column width=”1/4″][/vc_column][/vc_row]
URL:https://ggssc.net/event/hola-mohalla-gurudwara-sri-guru-singh-sbha/
LOCATION:Gurudwara Sri Guru Singh Sbha\, Phase 1\, Urban Estate\, Oppo CRPF Quarter\, Dugri\, Ludhiana\, Punjab\, 141013\, India
CATEGORIES:Category Event
ORGANIZER;CN="Guru Gobind Singh Study Circle":MAILTO:info@ggssc.net
END:VEVENT
BEGIN:VEVENT
DTSTART;TZID=Asia/Kolkata:20240325T090000
DTEND;TZID=Asia/Kolkata:20240325T140000
DTSTAMP:20260419T142841
CREATED:20240312T104910Z
LAST-MODIFIED:20240312T110554Z
UID:4477-1711357200-1711375200@ggssc.net
SUMMARY:Hola Mohalla - Baba Isher Singh Public School
DESCRIPTION:[vc_row][vc_column width=”1/4″][vc_single_image image=”4472″][/vc_column][vc_column width=”1/4″][/vc_column][vc_column width=”1/4″][/vc_column][vc_column width=”1/4″][/vc_column][/vc_row]
URL:https://ggssc.net/event/hola-mohalla-baba-isher-singh-public-school/
LOCATION:Baba Isher Singh Public School\, Bhai Randhir Singh Nagar\, Ludhiana\, Punjab\, 141012\, India
CATEGORIES:Category Event
ORGANIZER;CN="Guru Gobind Singh Study Circle":MAILTO:info@ggssc.net
END:VEVENT
BEGIN:VEVENT
DTSTART;TZID=Asia/Kolkata:20240325T090000
DTEND;TZID=Asia/Kolkata:20240325T140000
DTSTAMP:20260419T142841
CREATED:20240312T104222Z
LAST-MODIFIED:20240312T110601Z
UID:4468-1711357200-1711375200@ggssc.net
SUMMARY:Hola Mohalla - Gujarkhan Campus
DESCRIPTION:[vc_row][vc_column width=”1/4″][vc_single_image image=”4472″][/vc_column][vc_column width=”1/4″][/vc_column][vc_column width=”1/4″][/vc_column][vc_column width=”1/4″][/vc_column][/vc_row]
URL:https://ggssc.net/event/hola-mohalla-gujankhan-campus/
LOCATION:Gujarkhan Campus\, Modal Town\, Ludhiana\, Punjab\, 141002\, India
CATEGORIES:Category Event
ORGANIZER;CN="Guru Gobind Singh Study Circle":MAILTO:info@ggssc.net
END:VEVENT
BEGIN:VEVENT
DTSTART;TZID=Asia/Kolkata:20240325T080000
DTEND;TZID=Asia/Kolkata:20240325T160000
DTSTAMP:20260419T142841
CREATED:20240314T064001Z
LAST-MODIFIED:20240314T064001Z
UID:4512-1711353600-1711382400@ggssc.net
SUMMARY:Hola Mohalla
DESCRIPTION:[vc_row][vc_column width=”1/4″][vc_single_image image=”4513″][/vc_column][vc_column width=”1/4″][/vc_column][vc_column width=”1/4″][/vc_column][vc_column width=”1/4″][/vc_column][/vc_row]
URL:https://ggssc.net/event/hola-mohalla/
LOCATION:Gov Sen Sec School Ajitgarh Vandar\, Ajitgarh Vandar\, Moga\, Punjab\, India
CATEGORIES:Category Event
ORGANIZER;CN="Guru Gobind Singh Study Circle Unit Ajitgarh- Vandar Moga":MAILTO:info@ggssc.net
END:VEVENT
BEGIN:VEVENT
DTSTART;TZID=Asia/Kolkata:20240325T080000
DTEND;TZID=Asia/Kolkata:20240325T140000
DTSTAMP:20260419T142841
CREATED:20240326T075112Z
LAST-MODIFIED:20240326T075112Z
UID:4576-1711353600-1711375200@ggssc.net
SUMMARY:Hola Mohalla
DESCRIPTION:[vc_row][vc_column width=”1/4″][vc_single_image image=”4577″][/vc_column][vc_column width=”1/4″][/vc_column][vc_column width=”1/4″][/vc_column][vc_column width=”1/4″][/vc_column][/vc_row]
URL:https://ggssc.net/event/hola-mohalla-2/
LOCATION:Gov Sen Sec School (Boys)\, Abohar\, Abohar\, punjab\, India
CATEGORIES:Category Event
ORGANIZER;CN="Guru Gobind Singh Study Circle Abohar":MAILTO:info@ggssc.net
END:VEVENT
END:VCALENDAR