BEGIN:VCALENDAR
VERSION:2.0
PRODID:-//Guru Gobind Singh Study Circle - ECPv6.5.0//NONSGML v1.0//EN
CALSCALE:GREGORIAN
METHOD:PUBLISH
X-WR-CALNAME:Guru Gobind Singh Study Circle
X-ORIGINAL-URL:https://ggssc.net
X-WR-CALDESC:Events for Guru Gobind Singh Study Circle
REFRESH-INTERVAL;VALUE=DURATION:PT1H
X-Robots-Tag:noindex
X-PUBLISHED-TTL:PT1H
BEGIN:VTIMEZONE
TZID:Asia/Kolkata
BEGIN:STANDARD
TZOFFSETFROM:+0530
TZOFFSETTO:+0530
TZNAME:IST
DTSTART:20230101T000000
END:STANDARD
TZID:America/New_York
BEGIN:DAYLIGHT
TZOFFSETFROM:-0500
TZOFFSETTO:-0400
TZNAME:EDT
DTSTART:20230312T070000
END:DAYLIGHT
BEGIN:STANDARD
TZOFFSETFROM:-0400
TZOFFSETTO:-0500
TZNAME:EST
DTSTART:20231105T060000
END:STANDARD
TZID:UTC
BEGIN:STANDARD
TZOFFSETFROM:+0000
TZOFFSETTO:+0000
TZNAME:UTC
DTSTART:20230101T000000
END:STANDARD
END:VTIMEZONE
BEGIN:VEVENT
DTSTART;TZID=Asia/Kolkata:20240222T103000
DTEND;TZID=Asia/Kolkata:20240222T170000
DTSTAMP:20260423T231220
CREATED:20240119T074723Z
LAST-MODIFIED:20240306T062531Z
UID:4334-1708597800-1708621200@ggssc.net
SUMMARY:InterCollege Youth Festival
DESCRIPTION:[vc_row][vc_column][vc_column_text]Guru Gobind Singh Study Circle Faridkot Sri Muktsar Sahib Bathinda Zone organized an Inter College Youth Fair on 22nd February 2024 at the Auditorium of Adaesh University\, Bathinda to build the all-round personality of the students and connect them with their rich heritage.\n500 students from 50 colleges participated. \nZonal AIG Bathinda Olympian Avneet Kaur participated as the chief guest.\n[/vc_column_text][vc_column_text]Seven competitions\n1. Poetry\n2. Turban\n3. Quiz\n4. Rangoli\n5. Clay\n6. Posters\n7. Paragraph writing \nOther special attractions \n1. Exhibition against drugs and selfie point\n2. Turban exhibition\n3. Punjabi language exhibition and selfie point\n4. Heirs of Punjabi (Q&A)\n5. Special Punjabi language exhibition prepared by Advocate Ramandeep Singh\n6. Book exhibition[/vc_column_text][/vc_column][/vc_row][vc_row][vc_column][vc_gallery type=”image_grid” images=”4453\,4454″][/vc_column][/vc_row]
URL:https://ggssc.net/event/intercollege-youth-festival/
LOCATION:Adesh University\, Bathinda\, Punjab\, India
CATEGORIES:Category Event
ORGANIZER;CN="Guru Gobind Singh Study Circle Faridkot-Muktsar Sahib - Bathinda Zone":MAILTO:ggsscyouthfest@gmail.com
END:VEVENT
BEGIN:VEVENT
DTSTART;TZID=Asia/Kolkata:20240128T100000
DTEND;TZID=Asia/Kolkata:20240128T130000
DTSTAMP:20260423T231220
CREATED:20240123T055519Z
LAST-MODIFIED:20240123T055651Z
UID:4341-1706436000-1706446800@ggssc.net
SUMMARY:Istri Kavi Darbar
DESCRIPTION:[vc_row][vc_column width=”1/4″][vc_single_image image=”4342″][/vc_column][vc_column width=”1/4″][/vc_column][vc_column width=”1/4″][/vc_column][vc_column width=”1/4″][/vc_column][/vc_row]
URL:https://ggssc.net/event/istri-kavi-darbar/
LOCATION:Gurudwara Sri Ber Sahib\, Sultanpur Lodhi\, Kapurthala\, Punjab\, 144626\, India
CATEGORIES:Category Event
ORGANIZER;CN="Women Council Guru Gobind Singh Study Circle":MAILTO:info@ggssc.net
END:VEVENT
BEGIN:VEVENT
DTSTART;TZID=Asia/Kolkata:20240125T123000
DTEND;TZID=Asia/Kolkata:20240127T133000
DTSTAMP:20260423T231220
CREATED:20240119T074147Z
LAST-MODIFIED:20240119T074147Z
UID:4327-1706185800-1706362200@ggssc.net
SUMMARY:Student Personality Development Camp
DESCRIPTION:[vc_row][vc_column width=”1/4″][vc_single_image image=”4328″][/vc_column][vc_column width=”1/4″][/vc_column][vc_column width=”1/4″][/vc_column][vc_column width=”1/4″][/vc_column][/vc_row]
URL:https://ggssc.net/event/student-personality-development-camp-2/
LOCATION:Gurudwara Sahib\, Vill Nanaksar\, Faridkot\, Punjab\, India
CATEGORIES:Category Event
ORGANIZER;CN="Guru Gobind Singh Study Circle Kot Kapura":MAILTO:info@ggssc.net
END:VEVENT
BEGIN:VEVENT
DTSTART;TZID=Asia/Kolkata:20240120T100000
DTEND;TZID=Asia/Kolkata:20240120T170000
DTSTAMP:20260423T231220
CREATED:20240119T072606Z
LAST-MODIFIED:20240119T075010Z
UID:4320-1705744800-1705770000@ggssc.net
SUMMARY:Kavishri Gayan Competition
DESCRIPTION:[vc_row][vc_column width=”1/4″][vc_single_image image=”4322″][/vc_column][vc_column width=”1/4″][/vc_column][vc_column width=”1/4″][/vc_column][vc_column width=”1/4″][/vc_column][/vc_row]
URL:https://ggssc.net/event/kavishri-gayan-competition/
LOCATION:Bhai Himmat Singh Yadgari Dharmshala\, Oppo Bus Stand\, sangrur\, Punjab\, India
CATEGORIES:Category Event
ORGANIZER;CN="Guru Gobind Singh Study Circle Sangrur Barnala Zone":MAILTO:info@ggssc.net
END:VEVENT
BEGIN:VEVENT
DTSTART;TZID=Asia/Kolkata:20240105T180000
DTEND;TZID=Asia/Kolkata:20240107T190000
DTSTAMP:20260423T231220
CREATED:20240105T101055Z
LAST-MODIFIED:20240105T101246Z
UID:4218-1704477600-1704654000@ggssc.net
SUMMARY:Student Personality Development Camp
DESCRIPTION:[vc_row][vc_column width=”1/4″][vc_single_image image=”4221″][/vc_column][vc_column width=”1/4″][/vc_column][vc_column width=”1/4″][/vc_column][vc_column width=”1/4″][/vc_column][/vc_row]
URL:https://ggssc.net/event/gurmat-samagam-2/
LOCATION:Sant Bhai Khushal Singh Gurmat Vidyalya & Khoj Khendra\, Madbag\, jammu\, jammu\, India
CATEGORIES:Category Event
ORGANIZER;CN="Guru Gobind Singh Study Circle":MAILTO:info@ggssc.net
END:VEVENT
BEGIN:VEVENT
DTSTART;TZID=Asia/Kolkata:20231223T180000
DTEND;TZID=Asia/Kolkata:20231223T190000
DTSTAMP:20260423T231220
CREATED:20231222T063731Z
LAST-MODIFIED:20231222T064535Z
UID:4136-1703354400-1703358000@ggssc.net
SUMMARY:Gurmat samagam
DESCRIPTION:[vc_row][vc_column width=”1/4″][vc_single_image image=”4137″ onclick=”link_image”][/vc_column][vc_column width=”1/4″][/vc_column][vc_column width=”1/4″][/vc_column][vc_column width=”1/4″][/vc_column][/vc_row]
URL:https://ggssc.net/event/gurmat-samagam/
LOCATION:Gurdwara Ravidas ji Maharaj\, mahain\, Anandpur sahib\, punjab\, India
CATEGORIES:Category Event
ORGANIZER;CN="Guru Gobind Singh Study Circle":MAILTO:info@ggssc.net
END:VEVENT
BEGIN:VEVENT
DTSTART;TZID=Asia/Kolkata:20231222T183000
DTEND;TZID=Asia/Kolkata:20231222T203000
DTSTAMP:20260423T231220
CREATED:20231222T064509Z
LAST-MODIFIED:20231222T064509Z
UID:4143-1703269800-1703277000@ggssc.net
SUMMARY:Safar E Shahadat
DESCRIPTION:[vc_row][vc_column width=”1/4″][vc_single_image image=”4144″ onclick=”link_image”][/vc_column][vc_column width=”1/4″][/vc_column][vc_column width=”1/4″][/vc_column][vc_column width=”1/4″][/vc_column][/vc_row]
URL:https://ggssc.net/event/safar-e-shahadat/
LOCATION:Gurdwara Sri Guru Hargobind Sahib Ji\, Bhilai\, Durg\, Chattisgarh\, India
CATEGORIES:Category Event
ORGANIZER;CN="Guru Gobind Singh Study Circle Durg Bhilai Unit":MAILTO:info@ggssc.net
END:VEVENT
BEGIN:VEVENT
DTSTART;TZID=Asia/Kolkata:20231221T090000
DTEND;TZID=Asia/Kolkata:20231223T170000
DTSTAMP:20260423T231221
CREATED:20231214T111539Z
LAST-MODIFIED:20231214T111642Z
UID:4112-1703149200-1703350800@ggssc.net
SUMMARY:Gurmat Camp
DESCRIPTION:[vc_row][vc_column width=”1/4″][vc_single_image image=”4113″ onclick=”link_image”][/vc_column][vc_column width=”1/4″][/vc_column][vc_column width=”1/4″][/vc_column][vc_column width=”1/4″][/vc_column][/vc_row]
URL:https://ggssc.net/event/gurmat-camp/
LOCATION:Gurdwara Shaheeda\, Ladhewal\, Mahilpur\, punjab\, India
CATEGORIES:Category Event
ORGANIZER;CN="Guru Gobind Singh Study Circle Mahilpur":MAILTO:info@ggssc.net
END:VEVENT
BEGIN:VEVENT
DTSTART;TZID=Asia/Kolkata:20231205T150000
DTEND;TZID=Asia/Kolkata:20231205T170000
DTSTAMP:20260423T231221
CREATED:20231202T083441Z
LAST-MODIFIED:20231202T083534Z
UID:4077-1701788400-1701795600@ggssc.net
SUMMARY:Dr. Bhai Veer Singh Ji Janam Diwas Samagam
DESCRIPTION:[vc_row][vc_column width=”1/4″][vc_single_image image=”4078″ onclick=”link_image”][/vc_column][vc_column width=”1/4″][/vc_column][vc_column width=”1/4″][/vc_column][vc_column width=”1/4″][/vc_column][/vc_row]
URL:https://ggssc.net/event/dr-bhai-veer-singh-ji-151-year-janam-diwas-samagam/
LOCATION:Guru Gobind Singh Study Circle\, Complex Model town Extension\, Ludhiana\, punjab\, 141001\, India
CATEGORIES:Category Event
ORGANIZER;CN="Guru Gobind Singh Study Circle":MAILTO:info@ggssc.net
END:VEVENT
BEGIN:VEVENT
DTSTART;TZID=Asia/Kolkata:20231130T090000
DTEND;TZID=Asia/Kolkata:20231201T140000
DTSTAMP:20260423T231221
CREATED:20231130T131240Z
LAST-MODIFIED:20231130T131259Z
UID:4068-1701334800-1701439200@ggssc.net
SUMMARY:Student Personality Development Camp
DESCRIPTION:[vc_row][vc_column][vc_column_text]View More[/vc_column_text][/vc_column][/vc_row]
URL:https://ggssc.net/event/student-personality-development-camp/
LOCATION:Gurdwara Baba Harnam Singh Ji\, Village Lakhana \, Amarkot\, Tarntaran\, punjab\, India
CATEGORIES:Category Event
ORGANIZER;CN="Guru Gobind Singh Study Circle Amarkot":MAILTO:info@ggssc.net
END:VEVENT
BEGIN:VEVENT
DTSTART;TZID=Asia/Kolkata:20231126T090000
DTEND;TZID=Asia/Kolkata:20231126T170000
DTSTAMP:20260423T231221
CREATED:20231026T102924Z
LAST-MODIFIED:20231026T105506Z
UID:3903-1700989200-1701018000@ggssc.net
SUMMARY:Inter School Youth Festival
DESCRIPTION:[vc_row][vc_column][vc_single_image image=”3905″ onclick=”link_image”][/vc_column][/vc_row]
URL:https://ggssc.net/event/inter-school-youth-festival/
LOCATION:Baba Fareed College of Nursing\, Kot Kapura\, punjab\, 151204\, India
CATEGORIES:Category Event
ORGANIZER;CN="Guru Gobind Singh Study Circle Kot Kapura":MAILTO:info@ggssc.net
END:VEVENT
BEGIN:VEVENT
DTSTART;TZID=Asia/Kolkata:20231124T093000
DTEND;TZID=Asia/Kolkata:20231126T170000
DTSTAMP:20260423T231221
CREATED:20231122T094112Z
LAST-MODIFIED:20231122T094305Z
UID:4038-1700818200-1701018000@ggssc.net
SUMMARY:Guntas Personality Development Camp
DESCRIPTION:[vc_row][vc_column][vc_single_image image=”4043″ onclick=”link_image”][/vc_column][/vc_row]
URL:https://ggssc.net/event/guntas-personality-development-camp-for-college-students/
LOCATION:Gurdwara Baba Harnam Singh Ji\, Village Lakhana \, Amarkot\, Tarntaran\, punjab\, India
CATEGORIES:Category Event
ORGANIZER;CN="Guru Gobind Singh Study Circle SAS Nagar & Chandigarh Zone":MAILTO:info@ggssc.net
END:VEVENT
BEGIN:VEVENT
DTSTART;TZID=Asia/Kolkata:20231117T090000
DTEND;TZID=Asia/Kolkata:20231119T170000
DTSTAMP:20260423T231221
CREATED:20231117T091725Z
LAST-MODIFIED:20231122T070447Z
UID:3937-1700211600-1700413200@ggssc.net
SUMMARY:51- ਸਲਾਨਾ ਕੇਂਦਰੀ ਸਮਾਗਮ
DESCRIPTION:[vc_row][vc_column][vc_column_text]੫੧ਵੇਂ ਸਲਾਨਾ ਕੇਂਦਰੀ ਸਮਾਗਮ ਦੀ ਆਰੰਭਤਾ ਮੌਕੇ ਰੱਖੇ ਗਏ ਸਹਿਜ ਪਾਠ ਦੇ ਸਮਾਪਤੀ ਸਮਾਰੋਹ।।[/vc_column_text][/vc_column][/vc_row][vc_row][vc_column][vc_gallery type=”image_grid” images=”3943\,3944\,3947\,3948\,3949\,3951\,3960\,3961″][/vc_column][/vc_row][vc_row][vc_column][vc_gallery type=”image_grid” images=”3965\,3966\,3967\,3968\,3969\,3970\,3971\,3972\,3973\,3974″][/vc_column][/vc_row][vc_row][vc_column][vc_gallery type=”image_grid” images=”3975\,3976\,3977\,3978\,3979\,3980\,3981\,3982\,3983\,3984\,3985″][/vc_column][/vc_row][vc_row][vc_column][vc_gallery type=”image_grid” images=”3995\,3994\,3993\,3992\,3991\,3990\,3989\,3988\,3987\,3986″][/vc_column][/vc_row][vc_row][vc_column][vc_gallery type=”image_grid” images=”4002\,4003\,4004\,4005\,4006\,4007\,4008\,4009\,4010\,4011\,4012\,4013\,4014\,4015\,4016\,4017\,4018\,4019\,4020\,4021\,4022\,4023\,4024\,4025\,4026\,4027\,4028\,4029\,4030\,4031\,4032″][/vc_column][/vc_row]
URL:https://ggssc.net/event/52-%e0%a8%b8%e0%a8%b2%e0%a8%be%e0%a8%a8%e0%a8%be-%e0%a8%95%e0%a9%87%e0%a8%82%e0%a8%a6%e0%a8%b0%e0%a9%80-%e0%a8%b8%e0%a8%ae%e0%a8%be%e0%a8%97%e0%a8%ae/
LOCATION:Guru Gobind Singh Study Circle\, Complex Model town Extension\, Ludhiana\, punjab\, 141001\, India
CATEGORIES:Category Event
ORGANIZER;CN="Guru Gobind Singh Study Circle":MAILTO:info@ggssc.net
END:VEVENT
BEGIN:VEVENT
DTSTART;TZID=Asia/Kolkata:20231111T110000
DTEND;TZID=Asia/Kolkata:20231111T133000
DTSTAMP:20260423T231221
CREATED:20231111T050128Z
LAST-MODIFIED:20231111T050128Z
UID:3932-1699700400-1699709400@ggssc.net
SUMMARY:Special Seminar - World Sikh Entrepreneurship Day
DESCRIPTION:[vc_row][vc_column][vc_single_image image=”3933″ onclick=”link_image”][/vc_column][/vc_row]
URL:https://ggssc.net/event/special-seminar-world-sikh-entrepreneurship-day/
LOCATION:Guru Gobind Singh Study Circle\, Complex Model town Extension\, Ludhiana\, punjab\, 141001\, India
CATEGORIES:Category Event
ORGANIZER;CN="Guru Gobind Singh Study Circle":MAILTO:info@ggssc.net
END:VEVENT
BEGIN:VEVENT
DTSTART;TZID=Asia/Kolkata:20231104T100000
DTEND;TZID=Asia/Kolkata:20231106T183000
DTSTAMP:20260423T231221
CREATED:20231025T113848Z
LAST-MODIFIED:20231026T103017Z
UID:3892-1699092000-1699295400@ggssc.net
SUMMARY:Gurmat Sikhya Camp
DESCRIPTION:[vc_row][vc_column][vc_single_image image=”3896″ onclick=”link_image”][/vc_column][/vc_row]
URL:https://ggssc.net/event/gurmat-sikhya-camp/
LOCATION:Gurmat College\, Patiala\, punjab\, 147001\, India
CATEGORIES:Category Event
ORGANIZER;CN="Guru Nanak Foundation New Delhi & Guru Gobind Singh Study Circle":MAILTO:info@ggssc.net
END:VEVENT
BEGIN:VEVENT
DTSTART;TZID=Asia/Kolkata:20231103T100000
DTEND;TZID=Asia/Kolkata:20231103T110000
DTSTAMP:20260423T231221
CREATED:20230924T045800Z
LAST-MODIFIED:20231026T103053Z
UID:3721-1699005600-1699009200@ggssc.net
SUMMARY:ਨੈਤਿਕ ਸਿੱਖਿਆ ਇਮਤਿਹਾਨ 2023
DESCRIPTION:[vc_row][vc_column][vc_column_text]Click Here to View Syllabus-2023[/vc_column_text][/vc_column][/vc_row][vc_row][vc_column][vc_single_image image=”3725″ onclick=”link_image”][/vc_column][/vc_row]
URL:https://ggssc.net/event/%e0%a8%a8%e0%a9%88%e0%a8%a4%e0%a8%bf%e0%a8%95-%e0%a8%b8%e0%a8%bf%e0%a9%b1%e0%a8%96%e0%a8%bf%e0%a8%86-%e0%a8%87%e0%a8%ae%e0%a8%a4%e0%a8%bf%e0%a8%b9%e0%a8%be%e0%a8%a8/
CATEGORIES:Category Event
ORGANIZER;CN="Guru Gobind Singh Study Circle":MAILTO:info@ggssc.net
END:VEVENT
BEGIN:VEVENT
DTSTART;TZID=America/New_York:20231021T160000
DTEND;TZID=America/New_York:20231024T170000
DTSTAMP:20260423T231221
CREATED:20230925T084939Z
LAST-MODIFIED:20231011T071551Z
UID:3753-1697904000-1698166800@ggssc.net
SUMMARY:Virsa Camp 2023
DESCRIPTION:[vc_row][vc_column][vc_single_image image=”3759″ onclick=”link_image”][/vc_column][/vc_row]
URL:https://ggssc.net/event/virsa-camp-2023/
LOCATION:Guru Har Rai Academy\, Rama Devi\, Kanpur\, Uttar Pradesh\, 208021\, India
CATEGORIES:Category Event
ORGANIZER;CN="Guru Gobind Singh Study Circle Kanpur":MAILTO:info@ggssc.net
END:VEVENT
BEGIN:VEVENT
DTSTART;TZID=America/New_York:20231014T090000
DTEND;TZID=America/New_York:20231015T140000
DTSTAMP:20260423T231221
CREATED:20231011T070049Z
LAST-MODIFIED:20231011T071751Z
UID:3820-1697274000-1697378400@ggssc.net
SUMMARY:ਯੁਵਕ ਕਵੀ ਕਾਰਜਸ਼ਾਲਾ\, ਕਵੀ ਦਰਬਾਰ ਅਤੇ ਸਨਮਾਨ  ਸਮਾਰੋਹ
DESCRIPTION:[vc_row][vc_column width=”1/4″][vc_single_image image=”3821″ onclick=”link_image”][/vc_column][vc_column width=”1/4″][vc_single_image image=”3827″ onclick=”link_image”][/vc_column][vc_column width=”1/4″][vc_single_image image=”3829″ onclick=”link_image”][/vc_column][vc_column width=”1/4″][/vc_column][/vc_row]
URL:https://ggssc.net/event/%e0%a8%af%e0%a9%81%e0%a8%b5%e0%a8%95-%e0%a8%95%e0%a8%b5%e0%a9%80-%e0%a8%95%e0%a8%be%e0%a8%b0%e0%a8%9c%e0%a8%b8%e0%a8%bc%e0%a8%be%e0%a8%b2%e0%a8%be/
LOCATION:Guru Gobind Singh Study Circle\, Complex Model town Extension\, Ludhiana\, punjab\, 141001\, India
CATEGORIES:Category Event
ORGANIZER;CN="%E0%A8%AF%E0%A9%81%E0%A8%B5%E0%A8%95 %E0%A8%B2%E0%A8%BF%E0%A8%96%E0%A8%BE%E0%A8%B0%E0%A9%80 %E0%A8%B8%E0%A9%87%E0%A8%A7 %E0%A8%85%E0%A8%A4%E0%A9%87 %E0%A8%B8%E0%A8%BF%E0%A8%96%E0%A8%B2%E0%A8%BE%E0%A8%88 %E0%A8%95%E0%A9%87%E0%A8%82%E0%A8%A6%E0%A8%B0 %E0%A8%97%E0%A9%81%E0%A8%B0%E0%A9%82 %E0%A8%97%E0%A9%8B%E0%A8%AC%E0%A8%BF%E0%A9%B0%E0%A8%A6 %E0%A8%B8%E0%A8%BF%E0%A9%B0%E0%A8%98 %E0%A8%B8%E0%A8%9F%E0%A9%B1%E0%A8%A1%E0%A9%80 %E0%A8%B8%E0%A8%B0%E0%A8%95%E0%A8%B2":MAILTO:info@ggssc.net
END:VEVENT
BEGIN:VEVENT
DTSTART;TZID=America/New_York:20230930T090000
DTEND;TZID=America/New_York:20230930T170000
DTSTAMP:20260423T231221
CREATED:20170425T101855Z
LAST-MODIFIED:20231011T071507Z
UID:782-1696064400-1696093200@ggssc.net
SUMMARY:Dastar Pride Turban Tying Competition
DESCRIPTION:[vc_row css=”.vc_custom_1492008828909{margin-top: 40px !important;}”][vc_column][/vc_column][/vc_row][vc_row][vc_column][vc_single_image image=”3697″ onclick=”link_image”][/vc_column][/vc_row]
URL:https://ggssc.net/event/dastar-pride-turban-tying-competition/
LOCATION:Golden terrace hall\, 120-23 Atlantic avenue\, Richmond Hill\, NY\, 11418\, United States
CATEGORIES:Category Event
ORGANIZER;CN="Guru Gobind Singh Study Circle":MAILTO:info@ggssc.net
END:VEVENT
BEGIN:VEVENT
DTSTART;VALUE=DATE:20230930
DTEND;VALUE=DATE:20231001
DTSTAMP:20260423T231221
CREATED:20230929T040219Z
LAST-MODIFIED:20230929T041101Z
UID:3781-1696032000-1696118399@ggssc.net
SUMMARY:ਇੱਕ ਰੋਜ਼ਾ ਸੈਮੀਨਾਰ
DESCRIPTION:[vc_row][vc_column][vc_single_image image=”3783″ onclick=”link_image”][/vc_column][/vc_row]
URL:https://ggssc.net/event/%e0%a8%87%e0%a9%b1%e0%a8%95-%e0%a8%b0%e0%a9%8b%e0%a8%9c%e0%a8%bc%e0%a8%be-%e0%a8%b8%e0%a9%88%e0%a8%ae%e0%a9%80%e0%a8%a8%e0%a8%be%e0%a8%b0/
LOCATION:SGGS Khalsa College\, Mahilpur\, Hoshiarpur\, punjab\, 146105\, India
ORGANIZER;CN="Guru Gobind Singh Study Circle":MAILTO:info@ggssc.net
END:VEVENT
BEGIN:VEVENT
DTSTART;TZID=Asia/Kolkata:20230924T100000
DTEND;TZID=Asia/Kolkata:20230924T130000
DTSTAMP:20260423T231221
CREATED:20230924T043841Z
LAST-MODIFIED:20231011T071421Z
UID:3712-1695549600-1695560400@ggssc.net
SUMMARY:ਸਹਿਜ ਪਾਠ ਸਮਾਗਮ
DESCRIPTION:[vc_row css=”.vc_custom_1492008828909{margin-top: 40px !important;}”][vc_column][/vc_column][/vc_row][vc_row][vc_column][vc_single_image image=”3713″ onclick=”link_image”][/vc_column][/vc_row]
URL:https://ggssc.net/event/%e0%a8%b8%e0%a8%b9%e0%a8%bf%e0%a8%9c-%e0%a8%aa%e0%a8%be%e0%a8%a0-%e0%a8%b8%e0%a8%ae%e0%a8%be%e0%a8%97%e0%a8%ae/
LOCATION:Gurudwara Sri guru Arjan Dev Satsang Sabha\, Guru Arjan Nagar\,\, Near Shadipur Metro Station\, New Delhi\, 110008\, India
CATEGORIES:Category Event
ORGANIZER;CN="Guru Gobind Singh Study Circle Delhi":MAILTO:info@ggssc.net
END:VEVENT
END:VCALENDAR